BEGIN:VCALENDAR
VERSION:2.0
PRODID:-//3nity.com//3nity CMS//EN
BEGIN:VEVENT
SUMMARY:Youth Ministry Easter Celebration
UID:2026-07-18-1208978@100684.stablerack.com
SEQUENCE:0
STATUS:CONFIRMED
DTSTART:20260329T100000
DTEND:20260329T113000
DTSTAMP:20161222T120000
DESCRIPTION:Join us for a morning filled with Easter fun!
URL:http://100684.stablerack.com
END:VEVENT
END:VCALENDAR
