BEGIN:VCALENDAR
VERSION:2.0
PRODID:-//3nity.com//3nity CMS//EN
BEGIN:VEVENT
SUMMARY:Sunday Academy March 2026 Series: It's All About the Benjamins: Faith and Finances
UID:2026-07-18-1203506@100684.stablerack.com
SEQUENCE:0
STATUS:CONFIRMED
DTSTART:20260315T083000
DTEND:20260315T093000
DTSTAMP:20161222T120000
DESCRIPTION:All are welcomed to join our latest Sunday Academy series!
URL:http://100684.stablerack.com
END:VEVENT
END:VCALENDAR
